BEGIN:VCALENDAR
VERSION:2.0
PRODID:-//Plone.org//NONSGML plone.app.event//EN
X-WR-TIMEZONE:Europe/Rome
BEGIN:VEVENT
SUMMARY:Vaccination Day - L'antinfluenzale in ospedale 
DTSTART;VALUE=DATE-TIME:20171113T110000Z
DTEND;VALUE=DATE-TIME:20171113T130000Z
DTSTAMP;VALUE=DATE-TIME:20260420T062758Z
UID:315a407f8cdf845d5f42b64297b7e803@127.0.0.1:8095
CATEGORIES:Campagna
CREATED;VALUE=DATE-TIME:20171108T162501Z
DESCRIPTION:io TI PROTEGGO io MI VACCINO
LAST-MODIFIED;VALUE=DATE-TIME:20180518T060910Z
LOCATION:Ospedale Maggiore - Aula Magna 
URL:https://www.ausl.bologna.it/eventi/archivio/auslevent.2017-11-08.16910
 33457
END:VEVENT
END:VCALENDAR
