BEGIN:VCALENDAR
VERSION:2.0
PRODID:-//Plone.org//NONSGML plone.app.event//EN
X-WR-TIMEZONE:Europe/Rome
BEGIN:VEVENT
SUMMARY:Prevenzione delle cadute a domicilio
DTSTART;VALUE=DATE-TIME:20171106T143000Z
DTEND;VALUE=DATE-TIME:20171106T143000Z
DTSTAMP;VALUE=DATE-TIME:20260420T062831Z
UID:393a7852d03d477457e1ae26b256a9fe@127.0.0.1:8095
CATEGORIES:Scuola di Salute
CONTACT:051 6597127
CREATED;VALUE=DATE-TIME:20171106T143110Z
DESCRIPTION:Incontri per la salute 2017
LAST-MODIFIED;VALUE=DATE-TIME:20180518T060903Z
LOCATION:Casa della Salute San Pietro in Casale Via Asia\, 61 ‐ San Piet
 ro in Casale
URL:https://www.ausl.bologna.it/eventi/archivio/auslevent.2017-11-06.50469
 72489
END:VEVENT
END:VCALENDAR
