BEGIN:VCALENDAR
VERSION:2.0
PRODID:-//Plone.org//NONSGML plone.app.event//EN
X-WR-TIMEZONE:Europe/Rome
BEGIN:VEVENT
SUMMARY:WORKSHOP IN OFTALMOLOGIA PEDIATRICA
DTSTART;VALUE=DATE-TIME:20171111T073000Z
DTEND;VALUE=DATE-TIME:20171111T130000Z
DTSTAMP;VALUE=DATE-TIME:20260420T062759Z
UID:7be19dd84efee7304aef944013eb4ed4@127.0.0.1:8095
CATEGORIES:corso
CREATED;VALUE=DATE-TIME:20171106T145637Z
DESCRIPTION:Corso 
LAST-MODIFIED;VALUE=DATE-TIME:20180518T060905Z
LOCATION:PALAZZO PEPOLI Via Castiglione\, 8 - Bologna
URL:https://www.ausl.bologna.it/eventi/archivio/auslevent.2017-11-06.02696
 28666
END:VEVENT
END:VCALENDAR
