BEGIN:VCALENDAR
VERSION:2.0
PRODID:-//Plone.org//NONSGML plone.app.event//EN
X-WR-TIMEZONE:Europe/Rome
BEGIN:VEVENT
SUMMARY:Prevenzione delle cadute a domicilio
DTSTART;VALUE=DATE-TIME:20171116T160000Z
DTEND;VALUE=DATE-TIME:20171116T180000Z
DTSTAMP;VALUE=DATE-TIME:20260420T062916Z
UID:20b8a79cf92f6489c1e09e6b9335bb16@127.0.0.1:8095
CATEGORIES:Scuola di Salute
CONTACT:051 6803916
CREATED;VALUE=DATE-TIME:20171103T155943Z
DESCRIPTION:Incontri per la salute 2017
LAST-MODIFIED;VALUE=DATE-TIME:20180518T060902Z
LOCATION:Casa della Salute delle Terre d’Acqua Sala riunioni 2° Piano V
 iale Libertà\, 171 ‐  Crevalcore
URL:https://www.ausl.bologna.it/eventi/archivio/auslevent.2017-11-03.31112
 57818
END:VEVENT
END:VCALENDAR
