BEGIN:VCALENDAR
VERSION:2.0
PRODID:-//Plone.org//NONSGML plone.app.event//EN
X-WR-TIMEZONE:Europe/Rome
BEGIN:VEVENT
SUMMARY:PULIZIA DEGLI ORGANI INTERNI ED INTEGRAZIONE DELLE TERAPIE PER LA 
 MENTE
DTSTART;VALUE=DATE-TIME:20171109T133000Z
DTEND;VALUE=DATE-TIME:20171109T170000Z
DTSTAMP;VALUE=DATE-TIME:20260420T092155Z
UID:d806f2735047d5b2c78d5ec04fcb171f@127.0.0.1:8095
ATTENDEE;CN="Accesso libero aperto alla cittadinanza";ROLE=REQ-PARTICIPANT
 :Accesso libero aperto alla cittadinanza
CATEGORIES:Conferenza
CONTACT:333 3265125
CREATED;VALUE=DATE-TIME:20171102T152630Z
DESCRIPTION:ALIMENTAZIONE e SALUTE MENTALE - CICLO DI CONFERENZE DI APPROF
 ONDIMENTO 2017 in collegamento streaming con IIS di Porretta Terme
LAST-MODIFIED;VALUE=DATE-TIME:20180518T060857Z
LOCATION:Aula Magna Ospedale Maggiore - Bologna
URL:https://www.ausl.bologna.it/eventi/archivio/auslevent.2017-11-02.69954
 23597
END:VEVENT
END:VCALENDAR
