BEGIN:VCALENDAR
VERSION:2.0
PRODID:-//Plone.org//NONSGML plone.app.event//EN
X-WR-TIMEZONE:Europe/Rome
BEGIN:VEVENT
SUMMARY:ALIMENTAZIONE\, SALUTE MENTALE E VITALITA’
DTSTART;VALUE=DATE-TIME:20171123T133000Z
DTEND;VALUE=DATE-TIME:20171123T170000Z
DTSTAMP;VALUE=DATE-TIME:20260420T074850Z
UID:128d44e8c60e4bccd51653e66ac45bc4@127.0.0.1:8095
CATEGORIES:Conferenza
CONTACT:333 3265125 - 339 2853032 - 335 205474
CREATED;VALUE=DATE-TIME:20171102T153632Z
DESCRIPTION:ALIMENTAZIONE e SALUTE MENTALE - CICLO DI CONFERENZE DI APPROF
 ONDIMENTO 2017 in collegamento streaming con IIS di Porretta Terme
LAST-MODIFIED;VALUE=DATE-TIME:20180518T060858Z
LOCATION:Sala conferenze AVIS vicino Ospedale Maggiore - Bologna
URL:https://www.ausl.bologna.it/eventi/archivio/auslevent.2017-11-02.65650
 36740
END:VEVENT
END:VCALENDAR
