BEGIN:VCALENDAR
VERSION:2.0
PRODID:-//Plone.org//NONSGML plone.app.event//EN
X-WR-TIMEZONE:Europe/Rome
BEGIN:VEVENT
SUMMARY:AFFETTI\, RELAZIONI ED ALIMENTAZIONE NEL TRATTAMENTO DELLE DISFUNZ
 IONI PSICHICHE
DTSTART;VALUE=DATE-TIME:20171214T133000Z
DTEND;VALUE=DATE-TIME:20171214T170000Z
DTSTAMP;VALUE=DATE-TIME:20260420T074912Z
UID:e39904e2c1e833a1f08f3424c0bfc130@127.0.0.1:8095
CATEGORIES:Conferenza
CONTACT:333 3265125 - 339 2853032 - 335 205474
CREATED;VALUE=DATE-TIME:20171102T154309Z
DESCRIPTION:ALIMENTAZIONE e SALUTE MENTALE - CICLO DI CONFERENZE DI APPROF
 ONDIMENTO 2017 in collegamento streaming con IIS di Porretta Terme\n
LAST-MODIFIED;VALUE=DATE-TIME:20180518T060859Z
LOCATION:Aula Magna Ospedale Maggiore - Bologna
URL:https://www.ausl.bologna.it/eventi/archivio/auslevent.2017-11-02.17878
 82252
END:VEVENT
END:VCALENDAR
