BEGIN:VCALENDAR
VERSION:2.0
PRODID:-//Plone.org//NONSGML plone.app.event//EN
X-WR-TIMEZONE:Europe/Rome
BEGIN:VEVENT
SUMMARY:Fronteggiare la fragilità degli Anziani nel Distretto dell'Appenn
 ino Bolognese 
DTSTART;VALUE=DATE-TIME:20171026T073000Z
DTEND;VALUE=DATE-TIME:20171026T113000Z
DTSTAMP;VALUE=DATE-TIME:20260420T062918Z
UID:af1e217f8be801d0d6a1b679826830ba@127.0.0.1:8095
CATEGORIES:Evento formativo
CONTACT:3407790651 \, chiara.storari@fondazionesantaclelia.it
CREATED;VALUE=DATE-TIME:20171019T133904Z
DESCRIPTION:Un progetto da condividere con gli altri attori della comunit
 à 
LAST-MODIFIED;VALUE=DATE-TIME:20180418T112751Z
LOCATION:Biblioteca di Vergato in Galleria 1° Maggio\, 86/a 
URL:https://www.ausl.bologna.it/eventi/archivio/auslevent.2017-10-19.19334
 44753
END:VEVENT
END:VCALENDAR
