BEGIN:VCALENDAR
VERSION:2.0
PRODID:-//Plone.org//NONSGML plone.app.event//EN
X-WR-TIMEZONE:Europe/Rome
BEGIN:VEVENT
SUMMARY:Culture del cibo - Ciclo di eventi con presentazione di libri
DTSTART;VALUE=DATE-TIME:20171115T160000Z
DTEND;VALUE=DATE-TIME:20171115T173000Z
DTSTAMP;VALUE=DATE-TIME:20260421T063314Z
UID:7f090985f2b586a521eab50510d99c26@127.0.0.1:8095
ATTENDEE;CN="Ingresso libero";ROLE=REQ-PARTICIPANT:Ingresso libero
CATEGORIES:Presentazione libro
CONTACT:051 6375764
CREATED;VALUE=DATE-TIME:20171016T152159Z
DESCRIPTION:Presentazione del libro "L'alimentazione in menopausa" 
LAST-MODIFIED;VALUE=DATE-TIME:20180418T112743Z
LOCATION:Casa della Salute San Donato - San Vitale  via Beroaldo\, 4/2 - B
 ologna
URL:https://www.ausl.bologna.it/eventi/archivio/auslevent.2017-10-16.98603
 30296
END:VEVENT
END:VCALENDAR
