BEGIN:VCALENDAR
VERSION:2.0
PRODID:-//Plone.org//NONSGML plone.app.event//EN
X-WR-TIMEZONE:Europe/Rome
BEGIN:VEVENT
SUMMARY:Fronteggiare la fragilità degli Anziani nel Distretto dell'Appenn
 ino Bolognese
DTSTART;VALUE=DATE-TIME:20171019T073000Z
DTEND;VALUE=DATE-TIME:20171019T113000Z
DTSTAMP;VALUE=DATE-TIME:20260420T062929Z
UID:3a16aed2ec6d057057a8f990aa9ef14b@127.0.0.1:8095
CATEGORIES:Evento formativo
CONTACT:3407790651\, chiara.storari@fondazionesantaclelia.it
CREATED;VALUE=DATE-TIME:20171016T082413Z
DESCRIPTION:Un progetto da condividere con gli altri attori della comunit
 à\n\n\n
LAST-MODIFIED;VALUE=DATE-TIME:20180418T112737Z
LOCATION:Biblioteca di Vergato in Galleria 1° Maggio\, 86/a
URL:https://www.ausl.bologna.it/eventi/archivio/auslevent.2017-10-16.46505
 20291
END:VEVENT
END:VCALENDAR
