BEGIN:VCALENDAR
VERSION:2.0
PRODID:-//Plone.org//NONSGML plone.app.event//EN
X-WR-TIMEZONE:Europe/Rome
BEGIN:VEVENT
SUMMARY:Culture del cibo - Ciclo di eventi con presentazione di libri
DTSTART;VALUE=DATE-TIME:20171018T150000Z
DTEND;VALUE=DATE-TIME:20171018T163000Z
DTSTAMP;VALUE=DATE-TIME:20260421T063313Z
UID:e9d8e0f9f63960cff7a19269952184f2@127.0.0.1:8095
ATTENDEE;CN="Ingresso libero";ROLE=REQ-PARTICIPANT:Ingresso libero
CATEGORIES:Presentazione libro
CONTACT:051 6375764
CREATED;VALUE=DATE-TIME:20171016T150958Z
DESCRIPTION:Presentazione del libro "Vegetaliana"
LAST-MODIFIED;VALUE=DATE-TIME:20180418T112742Z
LOCATION:Casa della Salute San Donato - San Vitale  via Beroaldo\, 4/2 - B
 ologna
URL:https://www.ausl.bologna.it/eventi/archivio/auslevent.2017-10-16.22061
 32379
END:VEVENT
END:VCALENDAR
