BEGIN:VCALENDAR
VERSION:2.0
PRODID:-//Plone.org//NONSGML plone.app.event//EN
X-WR-TIMEZONE:Europe/Rome
BEGIN:VEVENT
SUMMARY:Dialoghiamo di obesità
DTSTART;VALUE=DATE-TIME:20171014T070000Z
DTEND;VALUE=DATE-TIME:20171014T103000Z
DTSTAMP;VALUE=DATE-TIME:20260420T143304Z
UID:e218cb6b10709f1121438e35246f067b@127.0.0.1:8095
CATEGORIES:Tavola rotonda
CREATED;VALUE=DATE-TIME:20171011T100344Z
DESCRIPTION:Il Percorso Diagnostico Terapeutico Assistenziale del paziente
  bariatrico
LAST-MODIFIED;VALUE=DATE-TIME:20180418T112729Z
LOCATION:Bologna\, Aula Magna Ospedale Maggiore
URL:https://www.ausl.bologna.it/eventi/archivio/auslevent.2017-10-11.97531
 16439
END:VEVENT
END:VCALENDAR
