BEGIN:VCALENDAR
VERSION:2.0
PRODID:-//Plone.org//NONSGML plone.app.event//EN
X-WR-TIMEZONE:Europe/Rome
BEGIN:VEVENT
SUMMARY:3^ Giornata europea dei Risvegli Open Day 
DTSTART;VALUE=DATE-TIME:20171007T070000Z
DTEND;VALUE=DATE-TIME:20171007T103000Z
DTSTAMP;VALUE=DATE-TIME:20260420T125348Z
UID:ca47653f7054760fda02d2f4fb049a93@127.0.0.1:8095
CATEGORIES:Open Day
CREATED;VALUE=DATE-TIME:20171006T081003Z
LAST-MODIFIED;VALUE=DATE-TIME:20180418T112716Z
LOCATION:Giardino Casa dei Risvegli Luca De Nigris - Ospedale Bellaria - V
 ia Giulio Gaist\, 6 - Bologna
URL:https://www.ausl.bologna.it/eventi/archivio/auslevent.2017-10-06.61793
 01577
END:VEVENT
END:VCALENDAR
