BEGIN:VCALENDAR
VERSION:2.0
PRODID:-//Plone.org//NONSGML plone.app.event//EN
X-WR-TIMEZONE:Europe/Rome
BEGIN:VEVENT
SUMMARY:“La Medicina al tempo dei Templari”
DTSTART;VALUE=DATE-TIME:20171018T160000Z
DTEND;VALUE=DATE-TIME:20171018T170000Z
DTSTAMP;VALUE=DATE-TIME:20260422T163528Z
UID:8c5ed6936f737023a8167f9f8ac368ab@127.0.0.1:8095
CATEGORIES:Conferenza pubblica
CONTACT:Comunicazione\, comunicazione@ausl.bologna.it
CREATED;VALUE=DATE-TIME:20171002T111122Z
DESCRIPTION:Quinto appuntamento del Mercolondì con Mario Cennamo
LAST-MODIFIED;VALUE=DATE-TIME:20180418T112546Z
LOCATION:Ospedale Bellaria\, Bologna
URL:https://www.ausl.bologna.it/eventi/archivio/auslevent.2017-10-02.49202
 36192
END:VEVENT
END:VCALENDAR
