BEGIN:VCALENDAR
VERSION:2.0
PRODID:-//Plone.org//NONSGML plone.app.event//EN
X-WR-TIMEZONE:Europe/Rome
BEGIN:VEVENT
SUMMARY:Allattiamo Insieme! - 5° Flash mob regionale - A San Giovanni in 
 Persiceto
DTSTART;VALUE=DATE-TIME:20171007T083000Z
DTEND;VALUE=DATE-TIME:20171007T103000Z
DTSTAMP;VALUE=DATE-TIME:20260420T162656Z
UID:6c5b2c3e81138b89acac91c3ca77f041@127.0.0.1:8095
CATEGORIES:Flash mob
CREATED;VALUE=DATE-TIME:20170929T152757Z
DESCRIPTION:Ti aspettiamo! Indossa una maglietta bianca e vieni anche tu a
 d allattare 
LAST-MODIFIED;VALUE=DATE-TIME:20180418T112538Z
LOCATION:Piazza del Popolo - San Giovanni in Persiceto 
URL:https://www.ausl.bologna.it/eventi/archivio/auslevent.2017-09-29.76704
 98945
END:VEVENT
END:VCALENDAR
