BEGIN:VCALENDAR
VERSION:2.0
PRODID:-//Plone.org//NONSGML plone.app.event//EN
X-WR-TIMEZONE:Europe/Rome
BEGIN:VEVENT
SUMMARY:Allattiamo Insieme! - 5° Flash mob regionale - A Casalecchio di R
 eno 
DTSTART;VALUE=DATE-TIME:20171007T090000Z
DTEND;VALUE=DATE-TIME:20171007T110000Z
DTSTAMP;VALUE=DATE-TIME:20260420T162655Z
UID:cac3b199c1bbc5133e52d6fb80969e55@127.0.0.1:8095
CATEGORIES:Flash mob
CREATED;VALUE=DATE-TIME:20170929T151914Z
DESCRIPTION:Ti aspettiamo! Indossa una maglietta bianca e vieni anche tu a
 d allattare 
LAST-MODIFIED;VALUE=DATE-TIME:20180418T112537Z
LOCATION:Casa della Conoscenza \, Via Porrettana\, 360 - Casalecchio di Re
 no 
URL:https://www.ausl.bologna.it/eventi/archivio/auslevent.2017-09-29.61712
 86994
END:VEVENT
END:VCALENDAR
