BEGIN:VCALENDAR
VERSION:2.0
PRODID:-//Plone.org//NONSGML plone.app.event//EN
X-WR-TIMEZONE:Europe/Rome
BEGIN:VEVENT
SUMMARY: Allattiamo Insieme! - 5° Flash mob regionale - A Porretta Terme
DTSTART;VALUE=DATE-TIME:20171007T083000Z
DTEND;VALUE=DATE-TIME:20171007T103000Z
DTSTAMP;VALUE=DATE-TIME:20260420T162656Z
UID:493153850774088afeb24d7adbe9bdfc@127.0.0.1:8095
CATEGORIES:Flash mob
CREATED;VALUE=DATE-TIME:20170928T123158Z
DESCRIPTION:Ti aspettiamo! Indossa una maglietta bianca e vieni anche tu a
 d allattare\n
LAST-MODIFIED;VALUE=DATE-TIME:20180418T112534Z
LOCATION:Sagrato della Chiesa dei Cappuccini \, Largo Emanuele Grassi\, 1 
 - Porretta Terme
URL:https://www.ausl.bologna.it/eventi/archivio/auslevent.2017-09-28.66858
 86955
END:VEVENT
END:VCALENDAR
