BEGIN:VCALENDAR
VERSION:2.0
PRODID:-//Plone.org//NONSGML plone.app.event//EN
X-WR-TIMEZONE:Europe/Rome
BEGIN:VEVENT
SUMMARY:Allattiamo Insieme! - 5° Flash mob regionale - A Bologna 
DTSTART;VALUE=DATE-TIME:20171007T082000Z
DTEND;VALUE=DATE-TIME:20171007T103000Z
DTSTAMP;VALUE=DATE-TIME:20260420T162650Z
UID:ba336c3fd89a9f2af2a35500bec2d09b@127.0.0.1:8095
CATEGORIES:Flash mob
CREATED;VALUE=DATE-TIME:20170928T122144Z
DESCRIPTION:Indossa una maglietta bianca e vieni anche tu ad allattare 
LAST-MODIFIED;VALUE=DATE-TIME:20180418T112533Z
LOCATION:Piazza Maggiore - Bologna 
URL:https://www.ausl.bologna.it/eventi/archivio/auslevent.2017-09-28.08416
 30252
END:VEVENT
END:VCALENDAR
