BEGIN:VCALENDAR
VERSION:2.0
PRODID:-//Plone.org//NONSGML plone.app.event//EN
X-WR-TIMEZONE:Europe/Rome
BEGIN:VEVENT
SUMMARY:Allattiamo Insieme! - 5° Flash mob regionale - A S. Lazzaro di Sa
 vena
DTSTART;VALUE=DATE-TIME:20171007T080000Z
DTEND;VALUE=DATE-TIME:20171007T100000Z
DTSTAMP;VALUE=DATE-TIME:20260420T162644Z
UID:5cfc40469076660f95b31478f3154aac@127.0.0.1:8095
CATEGORIES:Flash mob
CREATED;VALUE=DATE-TIME:20170928T123629Z
DESCRIPTION:Ti aspettiamo! Indossa una maglietta bianca e vieni anche tu a
 d allattare 
LAST-MODIFIED;VALUE=DATE-TIME:20180418T112535Z
LOCATION:Parco del Centro Sociale Fiorenzo Malpensa\, Via Jussi\, 33 - S. 
 Lazzaro di Savena
URL:https://www.ausl.bologna.it/eventi/archivio/auslevent.2017-09-28.05945
 46397
END:VEVENT
END:VCALENDAR
