BEGIN:VCALENDAR
VERSION:2.0
PRODID:-//Plone.org//NONSGML plone.app.event//EN
X-WR-TIMEZONE:Europe/Rome
BEGIN:VEVENT
SUMMARY:Giornata Europea dei Risvegli 
DTSTART;VALUE=DATE-TIME:20171003T070000Z
DTEND;VALUE=DATE-TIME:20171003T110000Z
DTSTAMP;VALUE=DATE-TIME:20260420T075430Z
UID:f56122dc759f0386fba0fb60de628350@127.0.0.1:8095
CONTACT:Gli amici di Luca Onlus\, 051 6494570
CREATED;VALUE=DATE-TIME:20170919T144227Z
DESCRIPTION:Per la ricerca sul coma - Vale la pena - 3^ edizione
LAST-MODIFIED;VALUE=DATE-TIME:20171128T105420Z
LOCATION:Cappella Farnese di Palazzo d’Accursio - Piazza Maggiore 6 - Bo
 logna
URL:https://www.ausl.bologna.it/eventi/archivio/auslevent.2017-09-19.38809
 50061
END:VEVENT
END:VCALENDAR
