BEGIN:VCALENDAR
VERSION:2.0
PRODID:-//Plone.org//NONSGML plone.app.event//EN
X-WR-TIMEZONE:Europe/Rome
BEGIN:VEVENT
SUMMARY:Presentazione del libro "Una badante in famiglia" 
DTSTART;VALUE=DATE-TIME:20170929T150000Z
DTEND;VALUE=DATE-TIME:20170929T163000Z
DTSTAMP;VALUE=DATE-TIME:20260420T074912Z
UID:56329310fc9b6245f8df786fd2ed7f36@127.0.0.1:8095
CATEGORIES:Scuola di Salute
CREATED;VALUE=DATE-TIME:20170918T130807Z
DESCRIPTION:Ingresso libero 
LAST-MODIFIED;VALUE=DATE-TIME:20171128T105410Z
LOCATION:Casa della Salute Vergato. Sala Riunioni - Primo Piano - Via dell
 a Repubblica\, 120 Vergato (BO)
URL:https://www.ausl.bologna.it/eventi/archivio/auslevent.2017-09-18.88558
 07552
END:VEVENT
END:VCALENDAR
