BEGIN:VCALENDAR
VERSION:2.0
PRODID:-//Plone.org//NONSGML plone.app.event//EN
X-WR-TIMEZONE:Europe/Rome
BEGIN:VEVENT
SUMMARY:Camminata per la salute ad Argelato
DTSTART;VALUE=DATE-TIME:20170923T070000Z
DTEND;VALUE=DATE-TIME:20170923T110000Z
DTSTAMP;VALUE=DATE-TIME:20260420T080326Z
UID:9b7073779f4fb8036dc70ff62133fec2@127.0.0.1:8095
CATEGORIES:Camminata
CREATED;VALUE=DATE-TIME:20170918T105009Z
DESCRIPTION:Sabato 23 settembre 2017 alle 9\,00. Ritrovo al Centro Sociale
  Villa Beatrice ad Argelato
LAST-MODIFIED;VALUE=DATE-TIME:20171128T105405Z
LOCATION:Argelato
URL:https://www.ausl.bologna.it/eventi/archivio/auslevent.2017-09-18.67750
 77781
END:VEVENT
END:VCALENDAR
