BEGIN:VCALENDAR
VERSION:2.0
PRODID:-//Plone.org//NONSGML plone.app.event//EN
X-WR-TIMEZONE:Europe/Rome
BEGIN:VEVENT
SUMMARY:Cine Care - Rassegna tra l'umorismo lieve e la leggerezza
DTSTART;VALUE=DATE-TIME:20171016T141500Z
DTEND;VALUE=DATE-TIME:20171016T161500Z
DTSTAMP;VALUE=DATE-TIME:20260420T075520Z
UID:59f984ff78b5be3dd0af68dff0b031b4@127.0.0.1:8095
CATEGORIES:Film
CREATED;VALUE=DATE-TIME:20170914T091924Z
DESCRIPTION:Proiezione del film "L'Orribile verità" di Leo McCarey\, USA 
 1937
LAST-MODIFIED;VALUE=DATE-TIME:20171128T105358Z
LOCATION:Ospedale Maggiore - Aula Magna - Bologna 
URL:https://www.ausl.bologna.it/eventi/archivio/auslevent.2017-09-14.47949
 61898
END:VEVENT
END:VCALENDAR
