BEGIN:VCALENDAR
VERSION:2.0
PRODID:-//Plone.org//NONSGML plone.app.event//EN
X-WR-TIMEZONE:Europe/Rome
BEGIN:VEVENT
SUMMARY:Formazione in materia di igiene e sicurezza sul lavoro:stato dell
 ’arte e novità introdotte dagli accordi Stato-Regione
DTSTART;VALUE=DATE-TIME:20171009T063000Z
DTEND;VALUE=DATE-TIME:20171010T153000Z
DTSTAMP;VALUE=DATE-TIME:20260420T074850Z
UID:c5aa7afea4fc94d2295dd4ffe3206670@127.0.0.1:8095
ATTENDEE;CN="Il corso è rivolto a tutti i professionisti dell’Ambito PS
 AL e Area DATeR T.A.L dell’AUSL di Bologna";ROLE=REQ-PARTICIPANT:Il cors
 o è rivolto a tutti i professionisti dell’Ambito PSAL e Area DATeR T.A.
 L dell’AUSL di Bologna
CONTACT:Fabrizio Roveri\, f.roveri@ausl.bologna.it
CREATED;VALUE=DATE-TIME:20170911T085311Z
LAST-MODIFIED;VALUE=DATE-TIME:20171128T105350Z
LOCATION:Sede polifunzionale "Cimarosa" - Via Cimarosa\, 5/2 - Casalecchio
  di Reno (Bo) Aula “A” e "B"
URL:https://www.ausl.bologna.it/eventi/archivio/auslevent.2017-09-11.57790
 50551
END:VEVENT
END:VCALENDAR
