BEGIN:VCALENDAR
VERSION:2.0
PRODID:-//Plone.org//NONSGML plone.app.event//EN
X-WR-TIMEZONE:Europe/Rome
BEGIN:VEVENT
SUMMARY:Salut Over 2017 
DTSTART;VALUE=DATE-TIME:20171026T150000Z
DTEND;VALUE=DATE-TIME:20171026T163000Z
DTSTAMP;VALUE=DATE-TIME:20260420T074949Z
UID:d85665f6c458fc653f29c92867fa2e78@127.0.0.1:8095
CATEGORIES:Scuola di Salute
CONTACT:Associazione di Volontariato Anteas "G. Fanin" Bologna \, 051/2566
 49
CREATED;VALUE=DATE-TIME:20170907T140206Z
DESCRIPTION:Prevenzione del Rischio Osteoporotico Ambientale
LAST-MODIFIED;VALUE=DATE-TIME:20171128T105249Z
LOCATION:Casa della Salute Lavino-Samoggia\, Piazza Giuseppe di Vittorio\,
  1 - Zola Predosa BO 
URL:https://www.ausl.bologna.it/eventi/archivio/auslevent.2017-09-07.79620
 24620
END:VEVENT
END:VCALENDAR
