BEGIN:VCALENDAR
VERSION:2.0
PRODID:-//Plone.org//NONSGML plone.app.event//EN
X-WR-TIMEZONE:Europe/Rome
BEGIN:VEVENT
SUMMARY:Salut Over 2017
DTSTART;VALUE=DATE-TIME:20171109T160000Z
DTEND;VALUE=DATE-TIME:20171109T173000Z
DTSTAMP;VALUE=DATE-TIME:20260420T074949Z
UID:031a2694c5580f70d72329cfed69d101@127.0.0.1:8095
CATEGORIES:Scuola di Salute
CONTACT:Associazione di Volontariato Anteas "G. Fanin" Bologna\, 051/25664
 9
CREATED;VALUE=DATE-TIME:20170907T141033Z
DESCRIPTION:La Prevenzione cardiovascolare aggiunge anni alla nostra vita\
 , aggiunge vita ai nostri anni 
LAST-MODIFIED;VALUE=DATE-TIME:20171128T105250Z
LOCATION:Casa della Salute Lavino-Samoggia\, Piazza Giuseppe di Vittorio\,
  1 - Zola Predosa BO
URL:https://www.ausl.bologna.it/eventi/archivio/auslevent.2017-09-07.20045
 88023
END:VEVENT
END:VCALENDAR
