BEGIN:VCALENDAR
VERSION:2.0
PRODID:-//Plone.org//NONSGML plone.app.event//EN
X-WR-TIMEZONE:Europe/Rome
BEGIN:VEVENT
SUMMARY:Passeggiare a Bologna dal Porto alle Moline 
DTSTART;VALUE=DATE-TIME:20170910T220000Z
DTEND;VALUE=DATE-TIME:20170915T220000Z
DTSTAMP;VALUE=DATE-TIME:20260420T075046Z
UID:7347ebc66ce2f30d819eefb87dbe8b0a@127.0.0.1:8095
ATTENDEE;CN="Mostra visitabile negli orari di apertura della Biblioteca";R
 OLE=REQ-PARTICIPANT:Mostra visitabile negli orari di apertura della Biblio
 teca
CATEGORIES:Mostra fotografica
CREATED;VALUE=DATE-TIME:20170906T105233Z
DESCRIPTION:Racconto di immagini fra Bellezza e Degrado 
LAST-MODIFIED;VALUE=DATE-TIME:20171128T105245Z
LOCATION:Salaborsa\, Piazza del Nettuno\, 3 - Bologna 
URL:https://www.ausl.bologna.it/eventi/archivio/auslevent.2017-09-06.16708
 85770
END:VEVENT
END:VCALENDAR
