BEGIN:VCALENDAR
VERSION:2.0
PRODID:-//Plone.org//NONSGML plone.app.event//EN
X-WR-TIMEZONE:Europe/Rome
BEGIN:VEVENT
SUMMARY:“Serata del Dono” - Festa del volontariato di Bentivoglio
DTSTART;VALUE=DATE-TIME:20171003T173000Z
DTEND;VALUE=DATE-TIME:20171003T193000Z
DTSTAMP;VALUE=DATE-TIME:20260420T074912Z
UID:c824776ede39af7fb9e2c3e3807a7fee@127.0.0.1:8095
CATEGORIES:Serata
CREATED;VALUE=DATE-TIME:20170904T100804Z
DESCRIPTION:Una scelta in Comune - Esprimi la tua volontà sulla Donazione
  di Organi e Tessuti
LAST-MODIFIED;VALUE=DATE-TIME:20171128T105244Z
LOCATION:“Locanda Smeraldi” Via San Marina\, 47 - Parco di Villa Smera
 ldi - San Marino di Bentivoglio (BO)
URL:https://www.ausl.bologna.it/eventi/archivio/auslevent.2017-09-04.35052
 06604
END:VEVENT
END:VCALENDAR
