BEGIN:VCALENDAR
VERSION:2.0
PRODID:-//Plone.org//NONSGML plone.app.event//EN
X-WR-TIMEZONE:Europe/Rome
BEGIN:VEVENT
SUMMARY:Muoviamoci insieme\, fermiamo l'Alzheimer
DTSTART;VALUE=DATE-TIME:20170916T180000Z
DTEND;VALUE=DATE-TIME:20170916T200000Z
DTSTAMP;VALUE=DATE-TIME:20260420T074912Z
UID:d9faeb80ccf878aa1e8f6969aee04439@127.0.0.1:8095
CATEGORIES:Camminata
CONTACT:333 2225965
CREATED;VALUE=DATE-TIME:20170830T111638Z
DESCRIPTION:Una camminata notturna di 4 km a San Pietro in Casale per il M
 ese mondiale dell'Alzheimer
LAST-MODIFIED;VALUE=DATE-TIME:20171128T105242Z
LOCATION:San Pietro in Casale - Ritrovo e partenza in Piazza dei Martiri
URL:https://www.ausl.bologna.it/eventi/archivio/auslevent.2017-08-30.35832
 55903
END:VEVENT
END:VCALENDAR
