BEGIN:VCALENDAR
VERSION:2.0
PRODID:-//Plone.org//NONSGML plone.app.event//EN
X-WR-TIMEZONE:Europe/Rome
BEGIN:VEVENT
SUMMARY:Corso aggiornamento Apicoltura e Sanità Pubblica
DTSTART;VALUE=DATE-TIME:20170922T063000Z
DTEND;VALUE=DATE-TIME:20170922T153000Z
DTSTAMP;VALUE=DATE-TIME:20260420T074912Z
UID:d1aea2242534017966ea2dfa8f289dc9@127.0.0.1:8095
ATTENDEE;CN="L’iniziativa è rivolta al personale veterinario e tecnico 
 della prevenzione.";ROLE=REQ-PARTICIPANT:L’iniziativa è rivolta al pers
 onale veterinario e tecnico della prevenzione.
ATTENDEE;CN="Il corso di 7,30 ore è accreditato per Medico, Veterinario e
  Tecnico della Prevenzione";ROLE=REQ-PARTICIPANT:Il corso di 7,30 ore è a
 ccreditato per Medico, Veterinario e Tecnico della Prevenzione
CATEGORIES:Corso di aggiornamento
CONTACT:Daniela Guidetti - Rosa Domina\, daniela.guidetti@ausl.bologna.it
CREATED;VALUE=DATE-TIME:20170824T071344Z
LAST-MODIFIED;VALUE=DATE-TIME:20171128T105234Z
LOCATION:Sede polifunzionale "Cimarosa" - Via Cimarosa\, 5/2 - Casalecchio
  di Reno (Bo) Aula “A”
URL:https://www.ausl.bologna.it/eventi/archivio/auslevent.2017-08-24.49559
 53345
END:VEVENT
END:VCALENDAR
