BEGIN:VCALENDAR
VERSION:2.0
PRODID:-//Plone.org//NONSGML plone.app.event//EN
X-WR-TIMEZONE:Europe/Rome
BEGIN:VEVENT
SUMMARY:Race for the cure
DTSTART;VALUE=DATE-TIME:20170922T140000Z
DTEND;VALUE=DATE-TIME:20170924T120000Z
DTSTAMP;VALUE=DATE-TIME:20260420T074949Z
UID:bce941e183075ab0b8216574d9a47e6e@127.0.0.1:8095
CATEGORIES:Calendario di eventi
CREATED;VALUE=DATE-TIME:20170824T075644Z
DESCRIPTION:XI edizione - Con Datti una Mossa!
LAST-MODIFIED;VALUE=DATE-TIME:20171128T105235Z
LOCATION:Giardini Margherita\, Bologna
URL:https://www.ausl.bologna.it/eventi/archivio/auslevent.2017-08-24.19236
 00348
END:VEVENT
END:VCALENDAR
