BEGIN:VCALENDAR
VERSION:2.0
PRODID:-//Plone.org//NONSGML plone.app.event//EN
X-WR-TIMEZONE:Europe/Rome
BEGIN:VEVENT
SUMMARY:NOVITA’ IN AUTOIMMUNITA’
DTSTART;VALUE=DATE-TIME:20170921T120000Z
DTEND;VALUE=DATE-TIME:20170921T160000Z
DTSTAMP;VALUE=DATE-TIME:20260420T074835Z
UID:36f35e7b1ea6ff8a6a5a5442e9c8af2f@127.0.0.1:8095
CATEGORIES:Aggiornamento
CONTACT:051 3172227\, patrizia.mimmi@ausl.bologna.it
CREATED;VALUE=DATE-TIME:20170823T142540Z
DESCRIPTION:Gli incontri del LUM
LAST-MODIFIED;VALUE=DATE-TIME:20171128T105231Z
LOCATION:S.Orsola\, Aula A – Padiglione Albertoni
URL:https://www.ausl.bologna.it/eventi/archivio/auslevent.2017-08-23.14312
 16907
END:VEVENT
END:VCALENDAR
