BEGIN:VCALENDAR
VERSION:2.0
PRODID:-//Plone.org//NONSGML plone.app.event//EN
X-WR-TIMEZONE:Europe/Rome
BEGIN:VEVENT
SUMMARY:Salut Over 2017
DTSTART;VALUE=DATE-TIME:20171012T150000Z
DTEND;VALUE=DATE-TIME:20171012T163000Z
DTSTAMP;VALUE=DATE-TIME:20260420T075046Z
UID:3f93db53e6039c4e85f0add089de9e8d@127.0.0.1:8095
CATEGORIES:Scuola di Salute
CONTACT:Associazione di Volontariato Anteas "G. Fanin" Bologna\, 051/25664
 9
CREATED;VALUE=DATE-TIME:20170810T140554Z
DESCRIPTION:Il diabete\, prevenzione e cura
LAST-MODIFIED;VALUE=DATE-TIME:20171128T105227Z
URL:https://www.ausl.bologna.it/eventi/archivio/auslevent.2017-08-10.77770
 20388
END:VEVENT
END:VCALENDAR
