BEGIN:VCALENDAR
VERSION:2.0
PRODID:-//Plone.org//NONSGML plone.app.event//EN
X-WR-TIMEZONE:Europe/Rome
BEGIN:VEVENT
SUMMARY:Salut Over 2017
DTSTART;VALUE=DATE-TIME:20171019T150000Z
DTEND;VALUE=DATE-TIME:20171019T163000Z
DTSTAMP;VALUE=DATE-TIME:20260420T074850Z
UID:54fe7dd4194049645fb07453dfa2ff43@127.0.0.1:8095
CATEGORIES:Scuola di Salute
CONTACT:Associazione di Volontariato Anteas "G. Fanin" Bologna\, 051/25664
 9
CREATED;VALUE=DATE-TIME:20170810T141843Z
DESCRIPTION:Piede Diabetico\, Prevenire è davvero meglio che Curare!
LAST-MODIFIED;VALUE=DATE-TIME:20171128T105228Z
LOCATION:Casa della Salute Lavino-Samoggia\, Piazza Giuseppe di Vittorio\,
  1 - Zola Predosa BO
URL:https://www.ausl.bologna.it/eventi/archivio/auslevent.2017-08-10.52670
 05635
END:VEVENT
END:VCALENDAR
