BEGIN:VCALENDAR
VERSION:2.0
PRODID:-//Plone.org//NONSGML plone.app.event//EN
X-WR-TIMEZONE:Europe/Rome
BEGIN:VEVENT
SUMMARY:Conoscere\, curare\, prevenire il diabete - Ciclo di incontri sul 
 diabete per i cittadini diabetici e loro familiari a cura della Casa della
  Salute di Budrio
DTSTART;VALUE=DATE-TIME:20171028T080000Z
DTEND;VALUE=DATE-TIME:20171028T100000Z
DTSTAMP;VALUE=DATE-TIME:20260420T093429Z
UID:a0b5fa703236bc778993dd93c28b3350@127.0.0.1:8095
CATEGORIES:Scuola di Salute
CONTACT:051/809289
CREATED;VALUE=DATE-TIME:20170810T125441Z
DESCRIPTION:Stili di vita: l’alimentazione ed il movimento
LAST-MODIFIED;VALUE=DATE-TIME:20171017T133705Z
LOCATION:Sala del Consiglio Comunale Municipio di Molinella Piazza Martoni
 \, 1 ‐ Molinella (BO) 
URL:https://www.ausl.bologna.it/eventi/archivio/auslevent.2017-08-10.37371
 32845
END:VEVENT
END:VCALENDAR
