BEGIN:VCALENDAR
VERSION:2.0
PRODID:-//Plone.org//NONSGML plone.app.event//EN
X-WR-TIMEZONE:Europe/Rome
BEGIN:VEVENT
SUMMARY:Conoscere\, curare\, prevenire il diabete - Ciclo di incontri sul 
 diabete per i cittadini diabetici e loro familiari
DTSTART;VALUE=DATE-TIME:20171014T080000Z
DTEND;VALUE=DATE-TIME:20171014T100000Z
DTSTAMP;VALUE=DATE-TIME:20260420T093259Z
UID:e45b7e8f8d1fb3fef798d4d8d1635bad@127.0.0.1:8095
CATEGORIES:Scuola di Salute
CONTACT:051/809289
CREATED;VALUE=DATE-TIME:20170810T123507Z
DESCRIPTION:Come convivere con il diabete?
LAST-MODIFIED;VALUE=DATE-TIME:20171017T133705Z
LOCATION:Sala del Consiglio Comunale Municipio di Molinella Piazza Martoni
 \, 1 ‐ Molinella (BO)
URL:https://www.ausl.bologna.it/eventi/archivio/auslevent.2017-08-10.32811
 74802
END:VEVENT
END:VCALENDAR
