BEGIN:VCALENDAR
VERSION:2.0
PRODID:-//Plone.org//NONSGML plone.app.event//EN
X-WR-TIMEZONE:Europe/Rome
BEGIN:VEVENT
SUMMARY:Salut Over 2017
DTSTART;VALUE=DATE-TIME:20171005T150000Z
DTEND;VALUE=DATE-TIME:20171005T163000Z
DTSTAMP;VALUE=DATE-TIME:20260420T075430Z
UID:48cff57bcaf30adc78998888baf12a90@127.0.0.1:8095
CATEGORIES:Scuola di Salute
CONTACT:Associazione di Volontariato Anteas "G. Fanin" Bologna\, 051/25664
 9
CREATED;VALUE=DATE-TIME:20170810T135703Z
DESCRIPTION:Impariamo a fare la spesa:scelte quotidiane\, alimentari e soc
 iali
LAST-MODIFIED;VALUE=DATE-TIME:20171017T133707Z
LOCATION:Casa della Salute Lavino-Samoggia\, Piazza Giuseppe di Vittorio\,
  1 - Zola Predosa BO
URL:https://www.ausl.bologna.it/eventi/archivio/auslevent.2017-08-10.14600
 44511
END:VEVENT
END:VCALENDAR
