BEGIN:VCALENDAR
VERSION:2.0
PRODID:-//Plone.org//NONSGML plone.app.event//EN
X-WR-TIMEZONE:Europe/Rome
BEGIN:VEVENT
SUMMARY:Incontri per la salute 2017
DTSTART;VALUE=DATE-TIME:20171011T150000Z
DTEND;VALUE=DATE-TIME:20171011T170000Z
DTSTAMP;VALUE=DATE-TIME:20260420T074850Z
UID:11065606ed4b9ac256f9e2e7c6d89752@127.0.0.1:8095
CATEGORIES:Scuola di Salute
CONTACT:051/6749155
CREATED;VALUE=DATE-TIME:20170810T130518Z
DESCRIPTION:Usi\, abusi e dipendenze
LAST-MODIFIED;VALUE=DATE-TIME:20171017T133706Z
LOCATION:Vergato (BO) - Biblioteca\, Galleria I° Maggio
URL:https://www.ausl.bologna.it/eventi/archivio/auslevent.2017-08-10.13428
 66577
END:VEVENT
END:VCALENDAR
