BEGIN:VCALENDAR
VERSION:2.0
PRODID:-//Plone.org//NONSGML plone.app.event//EN
X-WR-TIMEZONE:Europe/Rome
BEGIN:VEVENT
SUMMARY:Salut Over 2017
DTSTART;VALUE=DATE-TIME:20170928T150000Z
DTEND;VALUE=DATE-TIME:20170928T163000Z
DTSTAMP;VALUE=DATE-TIME:20260420T093349Z
UID:2ba4fda0dcb160c91626bb9f6b83aa05@127.0.0.1:8095
CATEGORIES:Scuola di Salute
CONTACT:Associazione di Volontariato Anteas "G. Fanin" Bologna \, 051/2566
 49
CREATED;VALUE=DATE-TIME:20170809T103544Z
DESCRIPTION:Gli psicofarmaci come e quando. Qualche utile informazione
LAST-MODIFIED;VALUE=DATE-TIME:20171017T133702Z
LOCATION:Casa della Salute Lavino-Samoggia\, Piazza Giuseppe di Vittorio\,
  1 - Zola Predosa BO
URL:https://www.ausl.bologna.it/eventi/archivio/auslevent.2017-08-09.64126
 10340
END:VEVENT
END:VCALENDAR
