BEGIN:VCALENDAR
VERSION:2.0
PRODID:-//Plone.org//NONSGML plone.app.event//EN
X-WR-TIMEZONE:Europe/Rome
BEGIN:VEVENT
SUMMARY:Conoscere\, curare\, prevenire il diabete - Ciclo di incontri sul 
 diabete per i cittadini diabetici e loro familiari a cura della Casa della
  Salute di Budrio
DTSTART;VALUE=DATE-TIME:20170930T080000Z
DTEND;VALUE=DATE-TIME:20170930T100000Z
DTSTAMP;VALUE=DATE-TIME:20260420T093528Z
UID:570e185ceda42c86f112867fbd99e381@127.0.0.1:8095
CATEGORIES:Scuola di Salute
CONTACT:051/809289
CREATED;VALUE=DATE-TIME:20170809T105435Z
DESCRIPTION:Cos’è il diabete?
LAST-MODIFIED;VALUE=DATE-TIME:20171017T133704Z
LOCATION:Sala del Consiglio Comunale Municipio di Molinella Piazza Martoni
 \, 1 ‐ Molinella (BO)
URL:https://www.ausl.bologna.it/eventi/archivio/auslevent.2017-08-09.42896
 85674
END:VEVENT
END:VCALENDAR
