BEGIN:VCALENDAR
VERSION:2.0
PRODID:-//Plone.org//NONSGML plone.app.event//EN
X-WR-TIMEZONE:Europe/Rome
BEGIN:VEVENT
SUMMARY:Salut Over 2017
DTSTART;VALUE=DATE-TIME:20170921T150000Z
DTEND;VALUE=DATE-TIME:20170921T163000Z
DTSTAMP;VALUE=DATE-TIME:20260420T093429Z
UID:7b006bef64b2dd956464232a56ead990@127.0.0.1:8095
CATEGORIES:Scuola di Salute
CONTACT:Associazione di Volontariato Anteas "G. Fanin" Bologna \, 051/2566
 49
CREATED;VALUE=DATE-TIME:20170808T124626Z
DESCRIPTION:La prevenzione e i sani stili di vita:armi vincenti di tutte l
 e malattie della società moderna
LAST-MODIFIED;VALUE=DATE-TIME:20171017T133700Z
LOCATION:Casa della Salute Lavino-Samoggia\, Piazza Giuseppe di Vittorio\,
  1 - Zola Predosa BO
URL:https://www.ausl.bologna.it/eventi/archivio/auslevent.2017-08-08.33129
 66588
END:VEVENT
END:VCALENDAR
