BEGIN:VCALENDAR
VERSION:2.0
PRODID:-//Plone.org//NONSGML plone.app.event//EN
X-WR-TIMEZONE:Europe/Rome
BEGIN:VEVENT
SUMMARY:Presentazione rapporto sulle dipendenze nell’Area metropolitana 
 di Bologna
DTSTART;VALUE=DATE-TIME:20170929T070000Z
DTEND;VALUE=DATE-TIME:20170929T110000Z
DTSTAMP;VALUE=DATE-TIME:20260420T143352Z
UID:4012aabb9ae7cb019620cb6f6484ca2d@127.0.0.1:8095
CATEGORIES:Tavola rotonda
CONTACT:051/6584313
CREATED;VALUE=DATE-TIME:20170719T142505Z
DESCRIPTION:Osservatorio Epidemiologico Metropolitano Dipendenze Patologic
 he
LAST-MODIFIED;VALUE=DATE-TIME:20171017T133657Z
LOCATION:Aula Ex Cappella\, Via S. Isaia\, 94/A\, Bologna
URL:https://www.ausl.bologna.it/eventi/archivio/auslevent.2017-07-19.13310
 02545
END:VEVENT
END:VCALENDAR
