BEGIN:VCALENDAR
VERSION:2.0
PRODID:-//Plone.org//NONSGML plone.app.event//EN
X-WR-TIMEZONE:Europe/Rome
BEGIN:VEVENT
SUMMARY:Ospedale Maggiore Experience: Cardiology Exchange Program
DTSTART;VALUE=DATE-TIME:20170609T133000Z
DTEND;VALUE=DATE-TIME:20170610T103000Z
DTSTAMP;VALUE=DATE-TIME:20260421T102211Z
UID:9cd88a3259899e517d1177d18b564a4b@127.0.0.1:8095
CATEGORIES:Meeting
CREATED;VALUE=DATE-TIME:20170601T135433Z
DESCRIPTION:Meeting interattivo di cardiologia italo-spagnolo
LAST-MODIFIED;VALUE=DATE-TIME:20171017T133616Z
LOCATION:Bologna - Aula Magna\, Ospedale Maggiore - Largo Nigrisoli\, 2
URL:https://www.ausl.bologna.it/eventi/archivio/auslevent.2017-06-01.08342
 44701
END:VEVENT
END:VCALENDAR
