BEGIN:VCALENDAR
VERSION:2.0
PRODID:-//Plone.org//NONSGML plone.app.event//EN
X-WR-TIMEZONE:Europe/Rome
BEGIN:VEVENT
SUMMARY:Legge 8 marzo 2017\, n. 24 - Fra sicurezza e responsabilità
DTSTART;VALUE=DATE-TIME:20170613T113000Z
DTEND;VALUE=DATE-TIME:20170613T173000Z
DTSTAMP;VALUE=DATE-TIME:20260420T112120Z
UID:3a6d72e257da5b013ff9ac01cb234bf1@127.0.0.1:8095
CATEGORIES:Aggiornamento
CREATED;VALUE=DATE-TIME:20170517T090909Z
LAST-MODIFIED;VALUE=DATE-TIME:20171011T114037Z
LOCATION:Aula Manzoli\, Istituto Ortopedico Rizzoli\, Via di Barbiano 1/10
  - Bologna
URL:https://www.ausl.bologna.it/eventi/archivio/auslevent.2017-05-17.88387
 12378
END:VEVENT
END:VCALENDAR
