BEGIN:VCALENDAR
VERSION:2.0
PRODID:-//Plone.org//NONSGML plone.app.event//EN
X-WR-TIMEZONE:Europe/Rome
BEGIN:VEVENT
SUMMARY:La comunicazione  digitale e le implicazioni giuridiche\, professi
 onali e deontologiche
DTSTART;VALUE=DATE-TIME:20170529T113000Z
DTEND;VALUE=DATE-TIME:20170529T163000Z
DTSTAMP;VALUE=DATE-TIME:20260420T093428Z
UID:38e1268a5f261525f00a746005cb0e21@127.0.0.1:8095
ATTENDEE;CN="Preiscrizioni e iscrizioni fino ad esaurimento posti. La part
 ecipazione è gratuita.";ROLE=REQ-PARTICIPANT:Preiscrizioni e iscrizioni f
 ino ad esaurimento posti. La partecipazione è gratuita.
CATEGORIES:Seminario formativo
CONTACT:051 39 38 40
CREATED;VALUE=DATE-TIME:20170516T141947Z
DESCRIPTION:Collegio IPASVI - Provincia di Bologna. Edizione Azienda USL B
 ologna\n
LAST-MODIFIED;VALUE=DATE-TIME:20171011T114033Z
LOCATION:Aula Magna Ospedale Maggiore\,  Largo Nigrisoli 2\,  Bologna
URL:https://www.ausl.bologna.it/eventi/archivio/auslevent.2017-05-16.95887
 97804
END:VEVENT
END:VCALENDAR
