BEGIN:VCALENDAR
VERSION:2.0
PRODID:-//Plone.org//NONSGML plone.app.event//EN
X-WR-TIMEZONE:Europe/Rome
BEGIN:VEVENT
SUMMARY:Culture del cibo - Ciclo di eventi con presentazione di libri
DTSTART;VALUE=DATE-TIME:20170614T150000Z
DTEND;VALUE=DATE-TIME:20170614T170000Z
DTSTAMP;VALUE=DATE-TIME:20260420T093349Z
UID:5def0fbe19d3085ad292fb866850938c@127.0.0.1:8095
ATTENDEE;CN="Ingresso libero";ROLE=REQ-PARTICIPANT:Ingresso libero
CATEGORIES:Incontro
CONTACT:051/6375764
CREATED;VALUE=DATE-TIME:20170516T103819Z
DESCRIPTION:Il cibo nelle diverse culture
LAST-MODIFIED;VALUE=DATE-TIME:20171011T114028Z
LOCATION:Casa della Salute San Donato - San Vitale via Beroaldo\, 4/2 - Bo
 logna
URL:https://www.ausl.bologna.it/eventi/archivio/auslevent.2017-05-16.87873
 73241
END:VEVENT
END:VCALENDAR
