BEGIN:VCALENDAR
VERSION:2.0
PRODID:-//Plone.org//NONSGML plone.app.event//EN
X-WR-TIMEZONE:Europe/Rome
BEGIN:VEVENT
SUMMARY:Salute & Sicurezza
DTSTART;VALUE=DATE-TIME:20170528T080000Z
DTEND;VALUE=DATE-TIME:20170528T180000Z
DTSTAMP;VALUE=DATE-TIME:20260420T092605Z
UID:e771bf75fb95efdbc3d1f776420a624c@127.0.0.1:8095
CATEGORIES:Festa
CONTACT:comunicazione@ausl.bologna.it
CREATED;VALUE=DATE-TIME:20170512T113347Z
DESCRIPTION:Domenica 28 maggio torna Datti una mossa! A Bologna\,  Parco d
 ella Montagnola e Piazza VIII Agosto\, salute\, sicurezza\, sana alimentaz
 ione\, relax\, giochi e sport
LAST-MODIFIED;VALUE=DATE-TIME:20171011T113500Z
LOCATION:Bologna
URL:https://www.ausl.bologna.it/eventi/archivio/auslevent.2017-05-12.54834
 53903
END:VEVENT
END:VCALENDAR
