BEGIN:VCALENDAR
VERSION:2.0
PRODID:-//Plone.org//NONSGML plone.app.event//EN
X-WR-TIMEZONE:Europe/Rome
BEGIN:VEVENT
SUMMARY:Conferenza Nazionale Cure Domiciliari e Piano delle cronicità
DTSTART;VALUE=DATE-TIME:20170608T070000Z
DTEND;VALUE=DATE-TIME:20170610T160000Z
DTSTAMP;VALUE=DATE-TIME:20260420T074850Z
UID:4518f4b901b4a94b94cc84704194d590@127.0.0.1:8095
CATEGORIES:Conferenza
CONTACT:Emanuele Ciotti\, iscrizioni@klinksolutions.it
CREATED;VALUE=DATE-TIME:20170510T092542Z
DESCRIPTION:XV CONGRESSO NAZIONALE CARD ITALIA
LAST-MODIFIED;VALUE=DATE-TIME:20180418T112518Z
LOCATION:Bologna\, Hotel Carlton\, via Montebello 8
URL:https://www.ausl.bologna.it/eventi/archivio/auslevent.2017-05-10.07330
 89272
END:VEVENT
END:VCALENDAR
