BEGIN:VCALENDAR
VERSION:2.0
PRODID:-//Plone.org//NONSGML plone.app.event//EN
X-WR-TIMEZONE:Europe/Rome
BEGIN:VEVENT
SUMMARY:Corso Le nuove linee guida per il controllo ufficiale - Regolament
 i UE 882 e 854 del 2004 e l’applicazione della categorizzazione del risc
 hio in Emilia Romagna 
DTSTART;VALUE=DATE-TIME:20170531T063000Z
DTEND;VALUE=DATE-TIME:20170531T150000Z
DTSTAMP;VALUE=DATE-TIME:20260420T092326Z
UID:a720c33d816dd5cc9c1d153be78557e7@127.0.0.1:8095
ATTENDEE;CN="L’iniziativa è rivolta a: Medici, Veterinari, Biologi, Chi
 mici, Assistenti Sanitari,  Tecnici della Prevenzione, Tecnici di laborato
 rio";ROLE=REQ-PARTICIPANT:L’iniziativa è rivolta a: Medici, Veterinari,
  Biologi, Chimici, Assistenti Sanitari,  Tecnici della Prevenzione, Tecnic
 i di laboratorio
CONTACT:Guidetti Daniela/Rosa Domina\, rosa.domina@ausl.bologna.it
CREATED;VALUE=DATE-TIME:20170413T123040Z
DESCRIPTION:Valido per il mantenimento della qualifica di Auditor e Ispett
 ore su OSA\n \n\n
LAST-MODIFIED;VALUE=DATE-TIME:20171011T113439Z
LOCATION:Aula  417 ASSESSORATO Politiche per la Salute della Regione Emili
 a-Romagna - Viale A. Moro\, 21 Bologna 
URL:https://www.ausl.bologna.it/eventi/archivio/auslevent.2017-04-13.40986
 24712
END:VEVENT
END:VCALENDAR
