BEGIN:VCALENDAR
VERSION:2.0
PRODID:-//Plone.org//NONSGML plone.app.event//EN
X-WR-TIMEZONE:Europe/Rome
BEGIN:VEVENT
SUMMARY:22 aprile - OPEN DAY della Centrale Operativa 118 di Area Omogenea
  Emilia Est
DTSTART;VALUE=DATE-TIME:20170412T151000Z
DTEND;VALUE=DATE-TIME:20170412T151000Z
DTSTAMP;VALUE=DATE-TIME:20260420T092524Z
UID:8c541b161a8697ded901bfd0847ff9f2@127.0.0.1:8095
CATEGORIES:Open Day
CREATED;VALUE=DATE-TIME:20170412T151617Z
DESCRIPTION:Una giornata con gli operatori della Centrale 118 dell’Area 
 Omogenera Emilia Est\, tra telefoni bollenti\, videowall\, sistemi di geol
 ocalizzazione\, ambulanze\, automediche ed elicotteri
LAST-MODIFIED;VALUE=DATE-TIME:20171128T105419Z
LOCATION:Centrale Operativa 118 - Ospedale Maggiore 
URL:https://www.ausl.bologna.it/eventi/archivio/auslevent.2017-04-12.83357
 46094
END:VEVENT
END:VCALENDAR
